BEGIN:VCALENDAR
VERSION:2.0
PRODID:icalendar-ruby
CALSCALE:GREGORIAN
METHOD:PUBLISH
BEGIN:VEVENT
DTSTAMP:20260422T001704Z
UID:91-1352056@christchurchbanstead.org
DTSTART:20260914T084500Z
DTEND:20260914T100000Z
CLASS:PUBLIC
CREATED:20260422T010143
DESCRIPTION:A time of coffee and chat followed by an informal and interacti
 ve Bible study for women (creche available).
LAST-MODIFIED:20260422T010143
LOCATION:
SUMMARY:Bible Outlook
URL;VALUE=URI:https://www.christchurchbanstead.org/events/bible-outlook--91
 /2026-09-14
END:VEVENT
END:VCALENDAR
